BEGIN:VCALENDAR
VERSION:2.0
PRODID:-//TRUSU - ECPv6.15.20//NONSGML v1.0//EN
CALSCALE:GREGORIAN
METHOD:PUBLISH
X-ORIGINAL-URL:https://trusu.ca
X-WR-CALDESC:Events for TRUSU
REFRESH-INTERVAL;VALUE=DURATION:PT1H
X-Robots-Tag:noindex
X-PUBLISHED-TTL:PT1H
BEGIN:VTIMEZONE
TZID:America/Vancouver
BEGIN:DAYLIGHT
TZOFFSETFROM:-0800
TZOFFSETTO:-0700
TZNAME:PDT
DTSTART:20250309T100000
END:DAYLIGHT
BEGIN:STANDARD
TZOFFSETFROM:-0700
TZOFFSETTO:-0800
TZNAME:PST
DTSTART:20251102T090000
END:STANDARD
BEGIN:DAYLIGHT
TZOFFSETFROM:-0800
TZOFFSETTO:-0700
TZNAME:PDT
DTSTART:20260308T100000
END:DAYLIGHT
BEGIN:STANDARD
TZOFFSETFROM:-0700
TZOFFSETTO:-0800
TZNAME:PST
DTSTART:20261101T090000
END:STANDARD
BEGIN:DAYLIGHT
TZOFFSETFROM:-0800
TZOFFSETTO:-0700
TZNAME:PDT
DTSTART:20270314T100000
END:DAYLIGHT
BEGIN:STANDARD
TZOFFSETFROM:-0700
TZOFFSETTO:-0800
TZNAME:PST
DTSTART:20271107T090000
END:STANDARD
END:VTIMEZONE
BEGIN:VEVENT
DTSTART;TZID=America/Vancouver:20260218T123000
DTEND;TZID=America/Vancouver:20260218T133000
DTSTAMP:20260420T205713
CREATED:20251121T215252Z
LAST-MODIFIED:20251202T224120Z
UID:10000816-1771417800-1771421400@trusu.ca
SUMMARY:Breaking Bread: Productivity & The Pressure to Keep Up
DESCRIPTION:Do you ever feel overwhelmed by constant deadlines and expectations? Are you struggling to find balance between productivity and rest? Do you wonder how others are managing to keep up without burning out? Come be a part of an open\, honest conversation about what sustainable productivity really means and how we can support each other through the pressures of student life.  \nOn Wednesday\, February 18\, 2026\, from 12:30 pm to 1:30 pm\, join the TRUSU Campaigns Committee for pizza and an open discussion centered student productivity. Together\, we’ll talk about the constant pressure to always be “on\,” share experiences with procrastination and burnout\, and explore what a balanced approach to work and rest means for each of us. We’d love to hear from you about what you do to make it through the semester\, and any other thoughts you have on what it is like to try and balance all the things students need to do.  \nThis discussion is part of the TRU Students’ Union Breaking Bread Series which strives to create a space for students and local community leaders to come together over a shared meal\, discuss contemporary issues\, share perspective and create community. It’s a chance to learn from each other’s experiences in a casual\, small group setting.  \nSpaces are limited\, and registration is first come first served. Reserve your spot below now!   \n 
URL:https://trusu.ca/event/breaking-bread-productivity-the-pressure-to-keep-up/
LOCATION:TRUSU Lecture Hall\, 1055 University Drive\, Kamloops\, BC\, V2C0C8\, Canada
CATEGORIES:Campaigns,Campus Life
ATTACH;FMTTYPE=image/webp:https://trusu.ca/wp-content/uploads/2025/07/Breaking-Bread-02.webp
ORGANIZER;CN="TRUSU Campaigns Committee":MAILTO:k.glass@trusu.ca
GEO:50.6729309;-120.3661929
X-APPLE-STRUCTURED-LOCATION;VALUE=URI;X-ADDRESS=TRUSU Lecture Hall 1055 University Drive Kamloops BC V2C0C8 Canada;X-APPLE-RADIUS=500;X-TITLE=1055 University Drive:geo:-120.3661929,50.6729309
END:VEVENT
BEGIN:VEVENT
DTSTART;TZID=America/Vancouver:20260226T090000
DTEND;TZID=America/Vancouver:20260226T150000
DTSTAMP:20260420T205713
CREATED:20250606T214305Z
LAST-MODIFIED:20251125T205927Z
UID:10000839-1772096400-1772118000@trusu.ca
SUMMARY:On-Campus Legal Clinic
DESCRIPTION:Once a month the Union and the TRU Community Legal Clinic co-host a Pop Up Legal Clinic in the Students’ Union Building to give members access to free legal advice to support them in disputes they might be having with landlords\, employers\, or other parties. \nBook an Appointment Now
URL:https://trusu.ca/event/on-campus-legal-clinic/2026-02-26/
LOCATION:TRUSU Members’ Services Desk\, 1055 University Drive\, Kamloops\, BC\, Canada
CATEGORIES:Campaigns
ATTACH;FMTTYPE=image/webp:https://trusu.ca/wp-content/uploads/2025/02/LegalClinicPreivew.webp
GEO:50.673124048476;-120.36589983998
X-APPLE-STRUCTURED-LOCATION;VALUE=URI;X-ADDRESS=TRUSU Members’ Services Desk 1055 University Drive Kamloops BC Canada;X-APPLE-RADIUS=500;X-TITLE=1055 University Drive:geo:-120.36589983998,50.673124048476
END:VEVENT
END:VCALENDAR